BEGIN:VCALENDAR
VERSION:2.0
PRODID:-//NOVA 535 - ECPv6.15.12.2//NONSGML v1.0//EN
CALSCALE:GREGORIAN
METHOD:PUBLISH
X-WR-CALNAME:NOVA 535
X-ORIGINAL-URL:https://staging.nova535.com
X-WR-CALDESC:Events for NOVA 535
REFRESH-INTERVAL;VALUE=DURATION:PT1H
X-Robots-Tag:noindex
X-PUBLISHED-TTL:PT1H
BEGIN:VTIMEZONE
TZID:America/New_York
BEGIN:DAYLIGHT
TZOFFSETFROM:-0500
TZOFFSETTO:-0400
TZNAME:EDT
DTSTART:20140309T070000
END:DAYLIGHT
BEGIN:STANDARD
TZOFFSETFROM:-0400
TZOFFSETTO:-0500
TZNAME:EST
DTSTART:20141102T060000
END:STANDARD
BEGIN:DAYLIGHT
TZOFFSETFROM:-0500
TZOFFSETTO:-0400
TZNAME:EDT
DTSTART:20150308T070000
END:DAYLIGHT
BEGIN:STANDARD
TZOFFSETFROM:-0400
TZOFFSETTO:-0500
TZNAME:EST
DTSTART:20151101T060000
END:STANDARD
BEGIN:DAYLIGHT
TZOFFSETFROM:-0500
TZOFFSETTO:-0400
TZNAME:EDT
DTSTART:20160313T070000
END:DAYLIGHT
BEGIN:STANDARD
TZOFFSETFROM:-0400
TZOFFSETTO:-0500
TZNAME:EST
DTSTART:20161106T060000
END:STANDARD
BEGIN:DAYLIGHT
TZOFFSETFROM:-0500
TZOFFSETTO:-0400
TZNAME:EDT
DTSTART:20170312T070000
END:DAYLIGHT
BEGIN:STANDARD
TZOFFSETFROM:-0400
TZOFFSETTO:-0500
TZNAME:EST
DTSTART:20171105T060000
END:STANDARD
BEGIN:DAYLIGHT
TZOFFSETFROM:-0500
TZOFFSETTO:-0400
TZNAME:EDT
DTSTART:20180311T070000
END:DAYLIGHT
BEGIN:STANDARD
TZOFFSETFROM:-0400
TZOFFSETTO:-0500
TZNAME:EST
DTSTART:20181104T060000
END:STANDARD
BEGIN:DAYLIGHT
TZOFFSETFROM:-0500
TZOFFSETTO:-0400
TZNAME:EDT
DTSTART:20190310T070000
END:DAYLIGHT
BEGIN:STANDARD
TZOFFSETFROM:-0400
TZOFFSETTO:-0500
TZNAME:EST
DTSTART:20191103T060000
END:STANDARD
BEGIN:DAYLIGHT
TZOFFSETFROM:-0500
TZOFFSETTO:-0400
TZNAME:EDT
DTSTART:20200308T070000
END:DAYLIGHT
BEGIN:STANDARD
TZOFFSETFROM:-0400
TZOFFSETTO:-0500
TZNAME:EST
DTSTART:20201101T060000
END:STANDARD
END:VTIMEZONE
BEGIN:VEVENT
DTSTART;TZID=America/New_York:20190810T210000
DTEND;TZID=America/New_York:20190811T030000
DTSTAMP:20260421T090542
CREATED:20190720T212731Z
LAST-MODIFIED:20190811T012855Z
UID:10000016-1565470800-1565492400@staging.nova535.com
SUMMARY:2019 DJ Fresh Birthday Celebration
DESCRIPTION:2019 DJ Fresh Birthday Celebration \nSaturday\, August 10\, 2019\nHistoric Downtown St Pete Venue NOVA 535 \nIt’s the wild and crazy 2019 DJ Fresh Birthday Celebration on Saturday\, August 10\, 2019\, from 9 pm to 3 am at Historic Downtown St Pete Venue NOVA 535 \nTICKETS $25 AT THE DOOR \n9:00 pm Doors\n3:00 am Event Ends \nPARKING + DIRECTIONS\nNOVA 535\n535 Dr. M. L. King Jr Street North\, St. Pete\, Fl 33701 \nTICKETS $25 AT THE DOOR
URL:https://staging.nova535.com/event/2019-dj-fresh-birthday-celebration/
LOCATION:NOVA 535\, 535 Dr M.L.K. Jr St N\, St. Petersburg\, FL 33701\, Saint Petersburg\, FL\, 33701\, United States
ATTACH;FMTTYPE=image/jpeg:https://staging.nova535.com/wp-content/uploads/nova535.com/2019-08-10-DJ-Fresh-Birthday-Celebration-Downtown-St-Pete-Venue-NOVA-535-FB.jpg
GEO:27.7783238;-82.6465287
X-APPLE-STRUCTURED-LOCATION;VALUE=URI;X-ADDRESS=NOVA 535 535 Dr M.L.K. Jr St N St. Petersburg FL 33701 Saint Petersburg FL 33701 United States;X-APPLE-RADIUS=500;X-TITLE=535 Dr M.L.K. Jr St N\, St. Petersburg\, FL 33701:geo:-82.6465287,27.7783238
END:VEVENT
BEGIN:VEVENT
DTSTART;TZID=America/New_York:20160113T160000
DTEND;TZID=America/New_York:20160113T220000
DTSTAMP:20260421T090542
CREATED:20151218T015200Z
LAST-MODIFIED:20160114T034450Z
UID:10000134-1452700800-1452722400@staging.nova535.com
SUMMARY:DJ FRESH presents NYE 2016 Hospitality Ball
DESCRIPTION:DJ Fresh Events presents \nHOSPITALITY BALL 2016\nA New Year’s Celebration\, \nWEDNESDAY JANUARY 13\, 2016\n9:00 pm – 3:00 am\nat historic Downtown St. Pete venue NOVA 535 \n(scroll to bottom for TICKETS) \nTHIS IS FOR HOSPITALITY & INDUSTRY FRIENDS ONLY! \nTickets are $10 and a portion of the proceeds will be going to ALL CHILDREN’S HOSPITAL. \nOn Wednesday January 13th\, 2016\, at the gorgeous downtown St. Pete venue NOVA 535 we are going to recreate New Years Eve Night for all of our friends in the Hospitality Industry\, the 2016 Hospitality Ball. This will be an Annual Event\, the 2nd in series. Last year was incredible and so 2016 will be even FRESHER!. This way you can still work on New Year’s Eve but also have your own upscale party to attend one week after the biggest night of the year. Party with your co-workers\, friends and meet some new ones without having to work! Bring your date or come with friends to this red carpet event brought to you by DJ Fresh Events. \nUpscale Cocktail Attire is requested \nThe night will include…\nTampa Bay’s Hottest DJ’s\nRed Carpet Entrance\nPhoto Booth with great props\nBalloon Drop at midnight\nParty Favors\nFree Convenient Parking\nMultiple Cash / Credit Full Liquor Bars \nPARKING and DIRECTIONS to NOVA 535
URL:https://staging.nova535.com/event/dj-fresh-presents-nye-2016-hospitality-ball/
LOCATION:NOVA 535\, 535 Dr M.L.K. Jr St N\, St. Petersburg\, FL 33701\, Saint Petersburg\, FL\, 33701\, United States
ATTACH;FMTTYPE=image/jpeg:https://staging.nova535.com/wp-content/uploads/2015/12/2016-01-13-Hospitality-Ball-2016-at-venue-NOVA-535-downtown-St-Pete-flyer-updated.jpg
GEO:27.7783238;-82.6465287
X-APPLE-STRUCTURED-LOCATION;VALUE=URI;X-ADDRESS=NOVA 535 535 Dr M.L.K. Jr St N St. Petersburg FL 33701 Saint Petersburg FL 33701 United States;X-APPLE-RADIUS=500;X-TITLE=535 Dr M.L.K. Jr St N\, St. Petersburg\, FL 33701:geo:-82.6465287,27.7783238
END:VEVENT
BEGIN:VEVENT
DTSTART;TZID=America/New_York:20150829T210000
DTEND;TZID=America/New_York:20150830T030000
DTSTAMP:20260421T090542
CREATED:20150804T224026Z
LAST-MODIFIED:20150830T041646Z
UID:10000148-1440882000-1440903600@staging.nova535.com
SUMMARY:DJ FRESH Birthday Celebration A Black and White Event
DESCRIPTION:DJ FRESH Birthday Celebration A Black and White Event\nTICKETS (Scroll to bottom to purchase) \nOn Saturday August 29\, 2015 at historic venue NOVA 535 in beautiful downtown St. Pete\, join us 9 pm to 3 am for DJ FRESH Birthday Celebration A Black and White Event\, this year’s must not miss affair! \nSHINE St. Pete Mural Festival is the official charity of DJ Fresh Birthday Celebration! \nTICKETS (Scroll to bottom to purchase)\n$10 online $20 at the door\, so BUY NOW and save! \n9:00 pm Doors\n9:00 pm Entertainment by DJ Fresh and Crew\, with lots of surprises!!\n9:00 pm Delicious food provided by The Avenue\n3:00 am Party Ends \nParking and Directions to NOVA 535 \n======  DONATE to SHINE ============= \nSHINE St. Pete Mural Festival
URL:https://staging.nova535.com/event/dj-fresh-birthday-celebration-a-black-and-white-event/
LOCATION:NOVA 535\, 535 Dr M.L.K. Jr St N\, St. Petersburg\, FL 33701\, Saint Petersburg\, FL\, 33701\, United States
ATTACH;FMTTYPE=image/jpeg:https://staging.nova535.com/wp-content/uploads/2015/08/2015-08-29-dj-fresh-birthday-celebration-a-black-and-white-event-COVER-graphic.jpg
GEO:27.7783238;-82.6465287
X-APPLE-STRUCTURED-LOCATION;VALUE=URI;X-ADDRESS=NOVA 535 535 Dr M.L.K. Jr St N St. Petersburg FL 33701 Saint Petersburg FL 33701 United States;X-APPLE-RADIUS=500;X-TITLE=535 Dr M.L.K. Jr St N\, St. Petersburg\, FL 33701:geo:-82.6465287,27.7783238
END:VEVENT
BEGIN:VEVENT
DTSTART;TZID=America/New_York:20150107T210000
DTEND;TZID=America/New_York:20150108T030000
DTSTAMP:20260421T090542
CREATED:20141228T023952Z
LAST-MODIFIED:20141229T082258Z
UID:10000163-1420664400-1420686000@staging.nova535.com
SUMMARY:DJ FRESH presents NYE 2015 Hospitality Ball
DESCRIPTION:DJ Fresh Events presents \nHOSPITALITY BALL 2015\nA New Years Celebration\, \nWEDNESDAY JANUARY 7\, 2015\n9:00 pm – 3:00 am\nNOVA 535 \n(scroll to bottom for TICKETS) \nTHIS IS FOR HOSPITALITY & INDUSTRY FRIENDS ONLY! \nTickets are $20 and a portion of the proceeds will be going to ALL CHILDREN’S HOSPITAL. \nOn Wednesday January 7th\, 2015\, at the gorgeous downtown St. Pete venue NOVA 535 we are going to recreate New Years Eve Night for all of our friends in the Hospitality Industry\, Hospitality Ball 2015. This will be an Annual Event. This way you can still work on New Years Eve but also have your own upscale party to attend one week after the biggest night of the year. Party with your co-workers\, friends and meet some new ones without having to work! Bring your date or come with friends to this red carpet event brought to you by DJ Fresh Events. \nUpscale Cocktail Attire is requested \nThe night will include…\nOne kick ass band to start the night off\n5 of Tampa Bay’s Best DJ’s\nRed Carpet Entrance\nPhoto Booth\nBalloon Drop\nParty Favors\nFree Parking\nMultiple Cash / Credit Full Liquor Bars \nPARKING and DIRECTIONS to NOVA 535
URL:https://staging.nova535.com/event/dj-fresh-presents-nye-2015-hospitality-ball/
LOCATION:NOVA 535\, 535 Dr M.L.K. Jr St N\, St. Petersburg\, FL 33701\, Saint Petersburg\, FL\, 33701\, United States
ATTACH;FMTTYPE=image/jpeg:https://staging.nova535.com/wp-content/uploads/2014/12/2015-01-07-DJ-Fresh-Hospitality-NYE-party-at-NOVA-535-downtown-St.-Pete-e1419714455872.jpg
GEO:27.7783238;-82.6465287
X-APPLE-STRUCTURED-LOCATION;VALUE=URI;X-ADDRESS=NOVA 535 535 Dr M.L.K. Jr St N St. Petersburg FL 33701 Saint Petersburg FL 33701 United States;X-APPLE-RADIUS=500;X-TITLE=535 Dr M.L.K. Jr St N\, St. Petersburg\, FL 33701:geo:-82.6465287,27.7783238
END:VEVENT
END:VCALENDAR