BEGIN:VCALENDAR
VERSION:2.0
PRODID:-//NOVA 535 - ECPv6.15.12.2//NONSGML v1.0//EN
CALSCALE:GREGORIAN
METHOD:PUBLISH
X-ORIGINAL-URL:https://staging.nova535.com
X-WR-CALDESC:Events for NOVA 535
REFRESH-INTERVAL;VALUE=DURATION:PT1H
X-Robots-Tag:noindex
X-PUBLISHED-TTL:PT1H
BEGIN:VTIMEZONE
TZID:America/New_York
BEGIN:DAYLIGHT
TZOFFSETFROM:-0500
TZOFFSETTO:-0400
TZNAME:EDT
DTSTART:20180311T070000
END:DAYLIGHT
BEGIN:STANDARD
TZOFFSETFROM:-0400
TZOFFSETTO:-0500
TZNAME:EST
DTSTART:20181104T060000
END:STANDARD
BEGIN:DAYLIGHT
TZOFFSETFROM:-0500
TZOFFSETTO:-0400
TZNAME:EDT
DTSTART:20190310T070000
END:DAYLIGHT
BEGIN:STANDARD
TZOFFSETFROM:-0400
TZOFFSETTO:-0500
TZNAME:EST
DTSTART:20191103T060000
END:STANDARD
BEGIN:DAYLIGHT
TZOFFSETFROM:-0500
TZOFFSETTO:-0400
TZNAME:EDT
DTSTART:20200308T070000
END:DAYLIGHT
BEGIN:STANDARD
TZOFFSETFROM:-0400
TZOFFSETTO:-0500
TZNAME:EST
DTSTART:20201101T060000
END:STANDARD
END:VTIMEZONE
BEGIN:VEVENT
DTSTART;TZID=America/New_York:20190117T190000
DTEND;TZID=America/New_York:20190117T230000
DTSTAMP:20260421T151618
CREATED:20190112T094009Z
LAST-MODIFIED:20190117T100131Z
UID:10000001-1547751600-1547766000@staging.nova535.com
SUMMARY:MLK Dream Big Comedy Explosion
DESCRIPTION:MLK Dream Big Comedy Explosion\nTHURSDAY JANUARY 17\, 2019\nThe “HOTTEST” Comedy Show In Tampa Bay!! at historic downtown St. Pete venue NOVA 533 \n\n 7:00 pm Doors\n\n\n11:00 pm Event Ends\n\nTICKETS\n$10.00 at the Door Night of show\nOr  EVENTBRITE \nParking and Directions to NOVA 535
URL:https://staging.nova535.com/event/mlk-dream-big-comedy-explosion/
LOCATION:NOVA 535\, 535 Dr M.L.K. Jr St N\, St. Petersburg\, FL 33701\, Saint Petersburg\, FL\, 33701\, United States
ATTACH;FMTTYPE=image/jpeg:https://staging.nova535.com/wp-content/uploads/nova535.com/2019-01-17-MLK-Comedy-Show-at-NOVA-535-cover-image.jpg
GEO:27.7783238;-82.6465287
X-APPLE-STRUCTURED-LOCATION;VALUE=URI;X-ADDRESS=NOVA 535 535 Dr M.L.K. Jr St N St. Petersburg FL 33701 Saint Petersburg FL 33701 United States;X-APPLE-RADIUS=500;X-TITLE=535 Dr M.L.K. Jr St N\, St. Petersburg\, FL 33701:geo:-82.6465287,27.7783238
END:VEVENT
END:VCALENDAR