BEGIN:VCALENDAR
VERSION:2.0
PRODID:-//NOVA 535 - ECPv6.15.12.2//NONSGML v1.0//EN
CALSCALE:GREGORIAN
METHOD:PUBLISH
X-WR-CALNAME:NOVA 535
X-ORIGINAL-URL:https://staging.nova535.com
X-WR-CALDESC:Events for NOVA 535
REFRESH-INTERVAL;VALUE=DURATION:PT1H
X-Robots-Tag:noindex
X-PUBLISHED-TTL:PT1H
BEGIN:VTIMEZONE
TZID:America/New_York
BEGIN:DAYLIGHT
TZOFFSETFROM:-0500
TZOFFSETTO:-0400
TZNAME:EDT
DTSTART:20210314T070000
END:DAYLIGHT
BEGIN:STANDARD
TZOFFSETFROM:-0400
TZOFFSETTO:-0500
TZNAME:EST
DTSTART:20211107T060000
END:STANDARD
BEGIN:DAYLIGHT
TZOFFSETFROM:-0500
TZOFFSETTO:-0400
TZNAME:EDT
DTSTART:20220313T070000
END:DAYLIGHT
BEGIN:STANDARD
TZOFFSETFROM:-0400
TZOFFSETTO:-0500
TZNAME:EST
DTSTART:20221106T060000
END:STANDARD
BEGIN:DAYLIGHT
TZOFFSETFROM:-0500
TZOFFSETTO:-0400
TZNAME:EDT
DTSTART:20230312T070000
END:DAYLIGHT
BEGIN:STANDARD
TZOFFSETFROM:-0400
TZOFFSETTO:-0500
TZNAME:EST
DTSTART:20231105T060000
END:STANDARD
BEGIN:DAYLIGHT
TZOFFSETFROM:-0500
TZOFFSETTO:-0400
TZNAME:EDT
DTSTART:20240310T070000
END:DAYLIGHT
BEGIN:STANDARD
TZOFFSETFROM:-0400
TZOFFSETTO:-0500
TZNAME:EST
DTSTART:20241103T060000
END:STANDARD
BEGIN:DAYLIGHT
TZOFFSETFROM:-0500
TZOFFSETTO:-0400
TZNAME:EDT
DTSTART:20250309T070000
END:DAYLIGHT
BEGIN:STANDARD
TZOFFSETFROM:-0400
TZOFFSETTO:-0500
TZNAME:EST
DTSTART:20251102T060000
END:STANDARD
BEGIN:DAYLIGHT
TZOFFSETFROM:-0500
TZOFFSETTO:-0400
TZNAME:EDT
DTSTART:20260308T070000
END:DAYLIGHT
BEGIN:STANDARD
TZOFFSETFROM:-0400
TZOFFSETTO:-0500
TZNAME:EST
DTSTART:20261101T060000
END:STANDARD
END:VTIMEZONE
BEGIN:VEVENT
DTSTART;TZID=America/New_York:20251123T083000
DTEND;TZID=America/New_York:20251123T163000
DTSTAMP:20260421T102039
CREATED:20251029T185705Z
LAST-MODIFIED:20251029T185812Z
UID:10000783-1763886600-1763915400@staging.nova535.com
SUMMARY:Beyond Bold Workshop at NOVA 535
DESCRIPTION:Beyond Bold Workshop at NOVA 535\nSunday November 23\, 2025 from 8:30am – 4:30pm\nParking and Directions to NOVA 535\n535 Dr. MLK Jr. Street North\, St. Pete\, FL 33701 \nMore Info and Tickets\n1 Day – 10x The Value – Multitudes of Joyful Gifts!\n\n\n\nInspiring BOLD speakers that activate your self-leadership\nTransformational mindset & mindfulness exercises to create the foundation for your own BOLD journey forward\nMusic and movement powered interaction to invoke the power of fun\, calmness\, creativity and joy\nBOLD friendships and connections\nAmazing hand-crafted\, energy giving culinary experience!\nBOLD giveaways and prizes!\nProfessional photographer to capture you in your BOLD moments\nLifetime belonging to the Beyond Bold movement with women who share your journey\n\n\n\nWhat you will walk away with\n\n\n\nA renewed sense of grace\, courage\, creativity\, and confidence\nPractical self-leadership tools that empower you to show up CALM and BOLD\nNew meaningful connections and opportunities to collaborate\nA winning brand photo to elevate your presence\nInspiring BOLD gifts so you can always carry the Beyond Bold energy with you!\n\n\n\n\n\nLess fear. More courage.\n\n\n\nLess stress. More freedom.\n\n\n\nBold Moves.\n\n\nREGISTER HERE \n====================== \nNOVA 535 is a gorgeously renovated\, 105 year old building\, and the #1 rated venue in Tampa St. Pete. Our 5-star venue brings your unique vision to life with our stress free experience. \nStart planning your special event HERE
URL:https://staging.nova535.com/event/beyond-bold-workshop-at-nova-535/
LOCATION:NOVA 535\, 535 Dr M.L.K. Jr St N\, St. Petersburg\, FL 33701\, Saint Petersburg\, FL\, 33701\, United States
ATTACH;FMTTYPE=image/jpeg:https://staging.nova535.com/wp-content/uploads/2025/10/2025-11-23-Beyond-Bold-Flyer-1-.jpg
ORGANIZER;CN="NOVA 535":MAILTO:sales@nova535.com
GEO:27.7783238;-82.6465287
X-APPLE-STRUCTURED-LOCATION;VALUE=URI;X-ADDRESS=NOVA 535 535 Dr M.L.K. Jr St N St. Petersburg FL 33701 Saint Petersburg FL 33701 United States;X-APPLE-RADIUS=500;X-TITLE=535 Dr M.L.K. Jr St N\, St. Petersburg\, FL 33701:geo:-82.6465287,27.7783238
END:VEVENT
BEGIN:VEVENT
DTSTART;TZID=America/New_York:20251111T190000
DTEND;TZID=America/New_York:20251111T200000
DTSTAMP:20260421T102039
CREATED:20251020T192136Z
LAST-MODIFIED:20251020T192232Z
UID:10000782-1762887600-1762891200@staging.nova535.com
SUMMARY:Bone Valley: An Evening with Gilbert King and Leo Schofield at NOVA 535
DESCRIPTION:Bone Valley: An Evening with Gilbert King and Leo Schofield at NOVA 535\nTUESDAY NOVEMBER 11\, 2025 at 7:00 pm\nParking and Directions to NOVA 535\n535 Dr. MLK Jr. Street North\, St. Pete\, FL 33701 \nMore Info and Tickets\n  \nTombolo Book is thrilled to host award-winning author Gilbert King and Leo Schofield for King’s new book Bone Valley: A True Story of Injustice and Redemption in the Heart of Florida. \nFrom Pulitzer Prize-winning author Gilbert King comes a chilling exploration of one of America’s most haunting wrongful conviction cases. Based on the hit podcast\, Bone Valley dives into the dark heart of rural Florida\, where a young man’s life was upended by a tragic miscarriage of justice. \n \nTuesday November 11\, 2025 at 7 pm\, Tombolo Book is thrilled to host award-winning author Gilbert King and Leo Schofield\, the man whose wrongful conviction is at the center of King’s new book Bone Valley: A True Story of Injustice and Redemption in the Heart of Florida. \nThis event will take place at NOVA 535 located at 535 Dr M.L.K. Jr St N\, St. Petersburg\, FL 33701. Drinks will be available for purchase from NOVA’s full liquor bar during the event. \nPurchase Tickets and a confirmation email with more details will be sent to you. Books can be picked up before the event at TOMBOLO BOOKS\, or at NOVA on the night of the event. \n  \nEvent Two Guests – $53 ticket includes admission to the event for you and one guest and one copy of Bone Valley. \nEvent Single Guest – $43 ticket includes one admission to the event and one copy of Bone Valley. \n  \nTickets \nMore about Bone Valley\nIn 1987\, Leo Schofield was arrested and charged with the murder of his wife\, Michelle. Always insistent on his innocence\, he was poorly served by his legal defense: the investigation was sloppy\, the case flimsy\, and numerous pieces of evidence were ignored. He was sentenced to life in prison. \nOver thirty years later\, Gilbert King is tipped off to Leo’s case and is astonished by what he found: layers of corruption\, flawed evidence\, and deep-seated errors. He can’t shake the story and starts to get to know Leo and his family. Leo shows an incomprehensible amount of grace and love about his situation\, which spurs Gilbert even more to tell his story. \nBone Valley is at once a revelatory investigation into a murder\, a chilling portrait of the criminal justice system\, and a uniquely powerful story of grace and redemption. Gilbert King has written a new classic of narrative nonfiction. \nGilbert King is the writer\, producer\, and host of Bone Valley\, a narrative podcast about murder and injustice in 1980s central Florida\, from Lava For Good podcasts. He is the author of three books\, including Devil in the Grove\, winner of the Pulitzer Prize. A New York Times bestseller\, the book was also named runner-up for the Dayton Literary Peace Prize. King has written about race\, civil rights\, and the death penalty for the New York Times\, the Washington Post\, and the Atlantic\, and he was a 2019-2020 fellow at the Dorothy and Lewis B. Cullman Center for Writers and Scholars at the New York Public Library. He lives in Brooklyn. \n  \n====================== \nNOVA 535 is a gorgeously renovated\, 105 year old building\, and the #1 rated venue in Tampa St. Pete. Our 5-star venue brings your unique vision to life with our stress free experience. \nStart planning your special event HERE
URL:https://staging.nova535.com/event/bone-valley-an-evening-with-gilbert-king-and-leo-schofield-november-11-2025-at-nova-535/
LOCATION:NOVA 535\, 535 Dr M.L.K. Jr St N\, St. Petersburg\, FL 33701\, Saint Petersburg\, FL\, 33701\, United States
ATTACH;FMTTYPE=image/jpeg:https://staging.nova535.com/wp-content/uploads/2025/10/2025-11-11-BONE-VALLEY-book-by-GILBERT-KING-at-NOVA-535-event.jpg
ORGANIZER;CN="NOVA 535":MAILTO:sales@nova535.com
GEO:27.7783238;-82.6465287
X-APPLE-STRUCTURED-LOCATION;VALUE=URI;X-ADDRESS=NOVA 535 535 Dr M.L.K. Jr St N St. Petersburg FL 33701 Saint Petersburg FL 33701 United States;X-APPLE-RADIUS=500;X-TITLE=535 Dr M.L.K. Jr St N\, St. Petersburg\, FL 33701:geo:-82.6465287,27.7783238
END:VEVENT
BEGIN:VEVENT
DTSTART;TZID=America/New_York:20251028T190000
DTEND;TZID=America/New_York:20251028T210000
DTSTAMP:20260421T102039
CREATED:20250828T183850Z
LAST-MODIFIED:20250828T183850Z
UID:10000779-1761678000-1761685200@staging.nova535.com
SUMMARY:The Proving Ground: An Evening With Michael Connelly at NOVA 535
DESCRIPTION:The Proving Ground: An Evening With Michael Connelly at NOVA 535\nTombolo Books Presents: The Proving Ground: An Evening With Michael Connelly at NOVA 535\nDoors: 6:30pm | Event: 7:00pm\nParking and Directions to NOVA 535\n535 Dr. MLK Jr. Street North\, St. Pete\, FL 33701 \nMore Info and Tickets \nFrom #1 New York Times bestselling author Michael Connelly\, the Lincoln Lawyer is back with a case against an AI company whose product may have been responsible for the murder of a young girl. \nTombolo Books is thrilled to announce our event with bestselling author Michael Connelly for his latest installment in his beloved Lincoln Lawyer series\, The Proving Ground! \nConnelly will be joined in conversation by two-time Edgar Award winning author Lori Roy! \nFans rejoin Mickey Haller after his “resurrection walk” and in search for new direction. Filled with Connelly’s signature taut prose\, The Proving Ground hits on the timely\, ongoing conversation about the function and dangers of AI in society. \n====================== \nNOVA 535 is a 105 year old building\, now the #1 rated venue in Tampa St. Pete. Our 5-star venue brings your unique vision to life with our stress free experience. Start planning your special event HERE
URL:https://staging.nova535.com/event/an-evening-with-michael-connelly-at-nova-535/
LOCATION:NOVA 535\, 535 Dr M.L.K. Jr St N\, St. Petersburg\, FL 33701\, Saint Petersburg\, FL\, 33701\, United States
ATTACH;FMTTYPE=image/png:https://staging.nova535.com/wp-content/uploads/2025/08/2025-10-28-Tombolo-Book-Signing.png
ORGANIZER;CN="NOVA 535":MAILTO:sales@nova535.com
GEO:27.7783238;-82.6465287
X-APPLE-STRUCTURED-LOCATION;VALUE=URI;X-ADDRESS=NOVA 535 535 Dr M.L.K. Jr St N St. Petersburg FL 33701 Saint Petersburg FL 33701 United States;X-APPLE-RADIUS=500;X-TITLE=535 Dr M.L.K. Jr St N\, St. Petersburg\, FL 33701:geo:-82.6465287,27.7783238
END:VEVENT
BEGIN:VEVENT
DTSTART;TZID=America/New_York:20250903T190000
DTEND;TZID=America/New_York:20250903T210000
DTSTAMP:20260421T102039
CREATED:20250828T182120Z
LAST-MODIFIED:20250828T182120Z
UID:10000778-1756926000-1756933200@staging.nova535.com
SUMMARY:Tomlinson's Wake - Event with Randy Wayne White at NOVA 535
DESCRIPTION:Tomlinson’s Wake – Event with Randy Wayne White at NOVA 535\nTombolo Books Presents: Tomlinson’s Wake – Event with Randy Wayne White at NOVA 535\nDoors: 6:30pm | Event: 7:00pm\nParking and Directions to NOVA 535\n535 Dr. MLK Jr. Street North\, St. Pete\, FL 33701 \nMore Info and Tickets \nFrom New York Times bestselling author Randy Wayne White\, the latest thriller following Doc Ford and his perilous journey into Mesoamerica after a world-shattering earthquake threatens his squad’s safety—and all of their lives. \nTombolo Books is thrilled to welcome back NYT bestselling and award-winning Florida author Randy Wayne White to launch the latest installment in his Doc Ford series\, Tomlinson’s Wake! \n====================== \nNOVA 535 is a 105 year old building\, now the #1 rated venue in Tampa St. Pete. Our 5-star venue brings your unique vision to life with our stress free experience. Start planning your special event HERE
URL:https://staging.nova535.com/event/randy-wayne-white-at-nova-535/
LOCATION:NOVA 535\, 535 Dr M.L.K. Jr St N\, St. Petersburg\, FL 33701\, Saint Petersburg\, FL\, 33701\, United States
ATTACH;FMTTYPE=image/png:https://staging.nova535.com/wp-content/uploads/2025/08/2025-09-03-Tombolo-Book-Signing.png
ORGANIZER;CN="NOVA 535":MAILTO:sales@nova535.com
GEO:27.7783238;-82.6465287
X-APPLE-STRUCTURED-LOCATION;VALUE=URI;X-ADDRESS=NOVA 535 535 Dr M.L.K. Jr St N St. Petersburg FL 33701 Saint Petersburg FL 33701 United States;X-APPLE-RADIUS=500;X-TITLE=535 Dr M.L.K. Jr St N\, St. Petersburg\, FL 33701:geo:-82.6465287,27.7783238
END:VEVENT
BEGIN:VEVENT
DTSTART;TZID=America/New_York:20250809T180000
DTEND;TZID=America/New_York:20250809T230000
DTSTAMP:20260421T102039
CREATED:20250703T183413Z
LAST-MODIFIED:20250703T183413Z
UID:10000720-1754762400-1754780400@staging.nova535.com
SUMMARY:Manzell Bledsoe Celebrates Jazz with Queen B DJ Donnie Luv August 9\, 2025
DESCRIPTION:Manzell Bledsoe Celebrates Jazz RnB with Queen B and DJ Donnie Luv Saturday August 9\, 2025 in downtown St. Pete at historic venue NOVA 535\nSATURDAY NIGHT\, AUGUST 9\, 2025\nNOVA 535 \nTICKETS \n6:00 pm   VIP entry\n6:30 pm   General Admission\n7:00 pm   SHOWTIME: Manzell Bledsoe\n9:00 pm   DJ Donnie Luv\n11:00 pm  Event Ends \nJoin us Saturday night\, August 9\, 2025 for a sophisticated and elegant evening of live music. Hosted by Queen B from 106.5 The BEAT. Doors open for VIP guests at 6:00 pm and 6:30 pm for general admission. This event will include a celebration of Jazz and R&B\, featuring saxophonist\, composer and educator\, Manzell Bledsoe. Manzell and top local musicians offer this unique\, curated VIP experience\, delicious gourmet food\, a food truck and local vendors. All at the swankiest venue in Tampa Bay\, historic NOVA 535. Then hang tight for DJ Donnie Luv as he jumps on on the turntables\, for our 2 hour “Off The Record” mingle and groove party\, from 9pm-11pm. This is a night you don’t want to miss! \nTICKETS \nVIP TICKETS include these extras:\nPremium VIP Section Seating\, 6 Different Gourmet Hors Dourves\, Free Valet Parking and more! \nNOVA 535\n535 Dr. MLK Jr Street North\, St. Pete 33701\nPARKING and DIRECTIONS
URL:https://staging.nova535.com/event/manzell-bledsoe-celebrates-jazz-with-queen-b-dj-donnie-luv-august-9-2025/
LOCATION:NOVA 535\, 535 Dr M.L.K. Jr St N\, St. Petersburg\, FL 33701\, Saint Petersburg\, FL\, 33701\, United States
ATTACH;FMTTYPE=image/jpeg:https://staging.nova535.com/wp-content/uploads/2025/07/2025-08-09-Manzell-Bledsoe-Live-Jazz-at-NOVA-535-Saturday-August-9-2025.jpg
ORGANIZER;CN="NOVA 535":MAILTO:sales@nova535.com
GEO:27.7783238;-82.6465287
X-APPLE-STRUCTURED-LOCATION;VALUE=URI;X-ADDRESS=NOVA 535 535 Dr M.L.K. Jr St N St. Petersburg FL 33701 Saint Petersburg FL 33701 United States;X-APPLE-RADIUS=500;X-TITLE=535 Dr M.L.K. Jr St N\, St. Petersburg\, FL 33701:geo:-82.6465287,27.7783238
END:VEVENT
BEGIN:VEVENT
DTSTART;TZID=America/New_York:20250706T120000
DTEND;TZID=America/New_York:20250706T220000
DTSTAMP:20260421T102039
CREATED:20250625T205148Z
LAST-MODIFIED:20250701T192002Z
UID:10000719-1751803200-1751839200@staging.nova535.com
SUMMARY:Bay Rockerz host Rockin the Bay V2 Sunday July 6 2025 at NOVA 535
DESCRIPTION:Bay Rockerz host\n“Rockin the Bay Volume 2”\nSUNDAY\, July 6\, 2025\nNoon to 10 pm\nDowntown St. Pete venue NOVA 535\nSpectacular Breakdance Competitions\nBUY TICKETS\nRockin’ The Bay Vol. 2 goes down Sunday\, July 6th at Nova 535 in St. Petersburg\, FL — bringing the community together for a full day of dance battles\, music\, performances and culture. The event features 1v1 Youth Breaking\, 3v3 Breaking\, and 1v1 All Styles competitions\, plus a special performance by VYB Dance Company and an exhibition battle hosted by Red Bull Dance Your Style. With local vendors\, good vibes\, and talent from all over\, RTB Vol. 2 is all about supporting the scene and showing love to the next generation. \nSUNDAY\, JULY 6\n\n12:00 PM – 1:00 PM\n• Doors Open to Public\n• Registration & Competitor Check-In\n\n\nDELICIOUS FOOD for SALE by BEEF BOOTLEGGER \nAll ages welcome. Must be 21+ with proper ID to purchase alcohol. No outside food/beverages allowed. All beverages must be purchase from NOVA full liquor bar. \n\n\n1:00 PM – 4:00 PM – PRELIMS BLOCK\n1:00 – 1:30 PM – Youth Breaking Prelims\n1:30 – 2:40 PM – 1v1 All Styles Prelims\n2:40 – 3:30 PM – 3v3 Breaking Prelims\n3:30 – 4:00 PM – Judge Deliberation / Cyphers / Break\n\n4:00 PM – 7:15 PM – MAIN BATTLES (GA Entry Opens)\n4:00 – 4:25 PM – Youth Top 8 > Top 4 > Finalist\n4:25 – 5:55 PM – 3v3 Top 16 > Top 8 Battles\n5:55 – 6:10 PM – Youth Final Battle + Award Ceremony\n6:10 – 7:15 PM – All Styles Top 16 > Top 8 Battles\n\n7:15 PM – 8:00 PM – SPECIAL PROGRAMMING\n7:15 – 7:25 PM – VYB Dance Company Performance\n7:25 – 7:45 PM – Red Bull Dance Your Style Exhibition Battle\n7:45 – 8:00 PM – Breaking Judges Showcase\n\n8:00 PM – 9:30 PM – FINAL BATTLES + AWARDS\n8:00 – 8:45 PM – Top 4 Battles: 3v3 & All Styles\n8:45 – 9:15 PM – Final Battles: 3v3 & All Styles\n9:15 – 9:30 PM – Final Awards Ceremony\n9:30 – 10:00 PM – Open Floor / Cyphers\n\n10:00 PM – EVENT ENDS\n  \n  \nBay Rockerz Inc stands as a driving force for cultural expression\, youth empowerment\, and community growth — where creativity\, education\, and opportunity unite to shape a thriving future for all. \nPlease reach us at admin@bayrockerz.com if you cannot find an answer to your question. \nBUY TICKETS\nNOVA 535\n535 Dr. MLK Jr Street North\, St. Pete\, Fl 33701 \nPARKING and DIRECTIONS \nAll ages welcome. Must be 21+ with proper ID to purchase alcohol. No outside food/beverages allowed. All beverages must be purchase from NOVA full liquor bar.
URL:https://staging.nova535.com/event/bay-rockerz-host-rockin-the-bay-v2-sunday-july-6-2025-at-nova-535/
LOCATION:NOVA 535\, 535 Dr M.L.K. Jr St N\, St. Petersburg\, FL 33701\, Saint Petersburg\, FL\, 33701\, United States
ATTACH;FMTTYPE=image/jpeg:https://staging.nova535.com/wp-content/uploads/2025/06/Rockin-the-Bay-V2-Sunday-July-6-2025-at-NOVA-535-St.-Pete.jpg
ORGANIZER;CN="NOVA 535":MAILTO:sales@nova535.com
GEO:27.7783238;-82.6465287
X-APPLE-STRUCTURED-LOCATION;VALUE=URI;X-ADDRESS=NOVA 535 535 Dr M.L.K. Jr St N St. Petersburg FL 33701 Saint Petersburg FL 33701 United States;X-APPLE-RADIUS=500;X-TITLE=535 Dr M.L.K. Jr St N\, St. Petersburg\, FL 33701:geo:-82.6465287,27.7783238
END:VEVENT
BEGIN:VEVENT
DTSTART;TZID=America/New_York:20240127T083000
DTEND;TZID=America/New_York:20240127T130000
DTSTAMP:20260421T102039
CREATED:20231011T190459Z
LAST-MODIFIED:20231221T210219Z
UID:10000282-1706344200-1706360400@staging.nova535.com
SUMMARY:NOVA Vision Workshop
DESCRIPTION:NOVA Vision Workshop\nPicture this\, being part of 100 women who are coming together in January to check-in at a deeper level—honoring the past\, reconciling the present\, and planning for an incredible future! \nNOVA Vision is NOT about goals\, it’s an event that celebrates each woman’s resolution; to trust herself first. \nThe “NOVA VisionWorkshop” was designed six years ago in response to this study\, teaching women a proven process used by fortune 100 companies\, personal growth leaders\, and even spiritual masters\, that help women gain the clarity needed to bring their vision to life. \nThat’s why taking time at the beginning of the year is so powerful. \nPURCHASE TICKETS HERE \nAfter working for with some of the biggest brands in world and then becoming a certified life and business coach\, Christine Bunnell celebrates her 6th year hosting her signature vision board workshop in St. Petersburg Florida\, where she’ll teach the art and science of uncovering and bringing to life your deepest desires\, by utilizing a process used by fortune 100 companies\, personal growth leaders\, and even spiritual masters. \nWhen you know what we want\, everything gets easier. \nResearch shows not only vision boards work\, but mastermind groups inform bigger and better ideas — transcending our own limited beliefs. \nKick off your new year at NOVA 535\, in downtown St. Petersburg for our biggest vision board workshop yet! We promise you’ll leave with a new sense of clarity\, confidence\, and connection to community. \nEVENT DETAILS: \n\nWho: Women who want more clarity\, confidence\, connection.\nWhen: Saturday\, January 27th from 8:30 a.m. – 1:00 p.m.\nWhere: NOVA 535 –  535 Dr. Martin Luther King Jr Street N\, St. Petersburg\, 33701\nWhy: When we know what we want\, everything becomes easier.\nHow: Clarity = Power!\n\nRemember\, visualization is a powerful tool that’s used by world-class athletes\, astronauts\, and business leaders. It’s a proven science. \nHosted by Christine B. Bunnell\, ICF certified coach and team. Questions? Email us at hello@theBbrand.com or call 513.763.0968 \nSponsored by Tenpenny Collection: A special thank you to Rachel Tenpenny and Tenpenny Collection. “When looking for real estate\, Tenpenny Collection invests in relationships first. ” \nNOVA 535 PARKING and DIRECTIONS
URL:https://staging.nova535.com/event/saturday-january-27-2024-nova-vision-workshop/
LOCATION:NOVA 535\, 535 Dr M.L.K. Jr St N\, St. Petersburg\, FL 33701\, Saint Petersburg\, FL\, 33701\, United States
ATTACH;FMTTYPE=image/png:https://staging.nova535.com/wp-content/uploads/2023/10/2024-01-27-Vision-Board-Workshop.png
ORGANIZER;CN="NOVA 535":MAILTO:sales@nova535.com
GEO:27.7783238;-82.6465287
X-APPLE-STRUCTURED-LOCATION;VALUE=URI;X-ADDRESS=NOVA 535 535 Dr M.L.K. Jr St N St. Petersburg FL 33701 Saint Petersburg FL 33701 United States;X-APPLE-RADIUS=500;X-TITLE=535 Dr M.L.K. Jr St N\, St. Petersburg\, FL 33701:geo:-82.6465287,27.7783238
END:VEVENT
BEGIN:VEVENT
DTSTART;TZID=America/New_York:20220204T183000
DTEND;TZID=America/New_York:20220204T223000
DTSTAMP:20260421T102039
CREATED:20220125T154900Z
LAST-MODIFIED:20220125T154900Z
UID:10000143-1643999400-1644013800@staging.nova535.com
SUMMARY:DeFi Unlimited NFT Launch Party at NOVA 535
DESCRIPTION:Come Celebrate The First Real Estate NFT Auction In the US To Be Conducted In Cryptocurrency!\nFriday 2022 02-04 from 6:30pm – 10:30pm  \nGET TICKETS \nDeFi Unlimited has partnered with Propy to auction off the first US real estate NFT to be bid on with crypto currency. The property is located right here in the St. Petersburg area. Come celebrate this historic event! We will discuss the details of the transaction\, show a video of the property\, and explain how you can participate. We will also explain who DeFi Unlimited is\, what we can do for your company\, and how blockchain technology is revolutionizing traditional businesses. Let’s talk crypto\, NFTs\, Real Estate and more! \nEntertainment by the Aerial Dragons\, cash bar\, and free hors d’oeuvres (while supplies last). Time to celebrate the future! \nNOVA 535 offers a full liquor cash/credit BAR and FREE PARKING \nGET TICKETS \n 
URL:https://staging.nova535.com/event/defi-unlimited-nft-launch-party-at-nova-535/
LOCATION:NOVA 535\, 535 Dr M.L.K. Jr St N\, St. Petersburg\, FL 33701\, Saint Petersburg\, FL\, 33701\, United States
ATTACH;FMTTYPE=image/png:https://staging.nova535.com/wp-content/uploads/2022/01/2022-02-04-DeFi-Unlimited.png
ORGANIZER;CN="NOVA 535":MAILTO:sales@nova535.com
GEO:27.7783238;-82.6465287
X-APPLE-STRUCTURED-LOCATION;VALUE=URI;X-ADDRESS=NOVA 535 535 Dr M.L.K. Jr St N St. Petersburg FL 33701 Saint Petersburg FL 33701 United States;X-APPLE-RADIUS=500;X-TITLE=535 Dr M.L.K. Jr St N\, St. Petersburg\, FL 33701:geo:-82.6465287,27.7783238
END:VEVENT
BEGIN:VEVENT
DTSTART;TZID=America/New_York:20220126T190000
DTEND;TZID=America/New_York:20220126T220000
DTSTAMP:20260421T102039
CREATED:20220120T205051Z
LAST-MODIFIED:20220121T181544Z
UID:10000037-1643223600-1643234400@staging.nova535.com
SUMMARY:Selva\, A Journey Through the Jungle
DESCRIPTION:GET TICKETS \nUnderground Cirque presents: \nSelva: A Journey through the Jungle \nJoin us at the historic venue NOVA 535 for an evening of Fire\, acrobatics\, burlesque and circus arts. Our acts are inspired by the jungles of Latin America. \nFirst show: Doors: 6:45 | Showtime: 7:15 \nSecond show: Doors: 8:30 | Showtime: 9:00 \nNOVA 535 offers a full liquor cash/credit BAR and FREE PARKING \nGuests must be 18+ \nGET TICKETS \n 
URL:https://staging.nova535.com/event/selva-a-journey-through-the-jungle/
LOCATION:NOVA 535\, 535 Dr M.L.K. Jr St N\, St. Petersburg\, FL 33701\, Saint Petersburg\, FL\, 33701\, United States
ATTACH;FMTTYPE=image/jpeg:https://staging.nova535.com/wp-content/uploads/2022/01/2022-01-26-SELVA-show-at-NOVA-535.jpg
ORGANIZER;CN="NOVA 535":MAILTO:sales@nova535.com
GEO:27.7783238;-82.6465287
X-APPLE-STRUCTURED-LOCATION;VALUE=URI;X-ADDRESS=NOVA 535 535 Dr M.L.K. Jr St N St. Petersburg FL 33701 Saint Petersburg FL 33701 United States;X-APPLE-RADIUS=500;X-TITLE=535 Dr M.L.K. Jr St N\, St. Petersburg\, FL 33701:geo:-82.6465287,27.7783238
END:VEVENT
END:VCALENDAR